BEGIN:VCALENDAR
VERSION:2.0
PRODID:-//New England Wing - ECPv6.15.20//NONSGML v1.0//EN
CALSCALE:GREGORIAN
METHOD:PUBLISH
X-ORIGINAL-URL:https://necaf.org
X-WR-CALDESC:Events for New England Wing
REFRESH-INTERVAL;VALUE=DURATION:PT1H
X-Robots-Tag:noindex
X-PUBLISHED-TTL:PT1H
BEGIN:VTIMEZONE
TZID:America/New_York
BEGIN:DAYLIGHT
TZOFFSETFROM:-0500
TZOFFSETTO:-0400
TZNAME:EDT
DTSTART:20250309T070000
END:DAYLIGHT
BEGIN:STANDARD
TZOFFSETFROM:-0400
TZOFFSETTO:-0500
TZNAME:EST
DTSTART:20251102T060000
END:STANDARD
BEGIN:DAYLIGHT
TZOFFSETFROM:-0500
TZOFFSETTO:-0400
TZNAME:EDT
DTSTART:20260308T070000
END:DAYLIGHT
BEGIN:STANDARD
TZOFFSETFROM:-0400
TZOFFSETTO:-0500
TZNAME:EST
DTSTART:20261101T060000
END:STANDARD
BEGIN:DAYLIGHT
TZOFFSETFROM:-0500
TZOFFSETTO:-0400
TZNAME:EDT
DTSTART:20270314T070000
END:DAYLIGHT
BEGIN:STANDARD
TZOFFSETFROM:-0400
TZOFFSETTO:-0500
TZNAME:EST
DTSTART:20271107T060000
END:STANDARD
END:VTIMEZONE
BEGIN:VEVENT
DTSTART;TZID=America/New_York:20260704T080000
DTEND;TZID=America/New_York:20260704T170000
DTSTAMP:20260425T071953
CREATED:20260331T185306Z
LAST-MODIFIED:20260331T185306Z
UID:1722-1783152000-1783184400@necaf.org
SUMMARY:Nationwide Fly Day - Commemorative Air Force
DESCRIPTION:Airports around the Nation will see Warbirds in flight this July 4th as the Commemorative Air Force will be holding a national FLY DAY to provide rides to Veterans to support our goal of 1000 veteran flights for 2026!!
URL:https://necaf.org/event/nationwide-fly-day-commemorative-air-force/
LOCATION:MA
END:VEVENT
BEGIN:VEVENT
DTSTART;TZID=America/New_York:20260711T080000
DTEND;TZID=America/New_York:20260712T170000
DTSTAMP:20260425T071953
CREATED:20260331T185937Z
LAST-MODIFIED:20260331T185937Z
UID:1725-1783756800-1783875600@necaf.org
SUMMARY:Great State of Maine Airshow
DESCRIPTION:US NAVY BLUE ANGELS \nUS AIR FORCE F-35 DEMO TEAM \nMike Goulian Aerobatics Dispaly \nParachute team\, C-17 Flybys and So much MORE!!
URL:https://necaf.org/event/great-state-of-maine-airshow/
LOCATION:Brunswick Executive Airport Brunswick ME\, 15 Terminal Road\, Brunswick\, ME\, 04011\, United States
END:VEVENT
END:VCALENDAR